BEGIN:VCALENDAR
VERSION:2.0
PRODID:-//Food Forest School - ECPv6.2.3.2//NONSGML v1.0//EN
CALSCALE:GREGORIAN
METHOD:PUBLISH
X-WR-CALNAME:Food Forest School
X-ORIGINAL-URL:https://foodforestschool.com
X-WR-CALDESC:Events for Food Forest School
REFRESH-INTERVAL;VALUE=DURATION:PT1H
X-Robots-Tag:noindex
X-PUBLISHED-TTL:PT1H
BEGIN:VTIMEZONE
TZID:UTC
BEGIN:STANDARD
TZOFFSETFROM:+0000
TZOFFSETTO:+0000
TZNAME:UTC
DTSTART:20230101T000000
END:STANDARD
END:VTIMEZONE
BEGIN:VEVENT
DTSTART;TZID=UTC:20231013T100000
DTEND;TZID=UTC:20231014T130000
DTSTAMP:20260420T212736
CREATED:20231011T234046Z
LAST-MODIFIED:20231013T205359Z
UID:9926-1697191200-1697288400@foodforestschool.com
SUMMARY:Composting 101
DESCRIPTION:A comprehensive 2 day course on composting.  We go over the basics of composting for micro\, mini\, medium\, large\, and commercial-scale composting.  We talk about the materials\, tools\, space\, time\, and effort necessary for making a compost pile. Together as a class\, we build a hot compost pile\, and 4 months later\, anyone is welcome to come get a couple buckets of the finished compost to use in their finished garden. \n\n\n\nOctober 13 10am-1pmOctober 14 10am-1pm \n\n\n\n 
URL:https://foodforestschool.com/event/composting-101/
LOCATION:Rainbow Grove\, near Donna Rd at Marcola Rd\, Springfield\, Oregon\, 97478\, United States
ATTACH;FMTTYPE=image/webp:https://foodforestschool.com/wp-content/uploads/2023/10/compost.webp
ORGANIZER;CN="Kevin Vernoy":MAILTO:kevin@rainbowgrove.com
END:VEVENT
END:VCALENDAR